BEGIN:VCALENDAR
VERSION:2.0
PRODID:-//Boston Strategies International - ECPv6.15.20//NONSGML v1.0//EN
CALSCALE:GREGORIAN
METHOD:PUBLISH
X-WR-CALNAME:Boston Strategies International
X-ORIGINAL-URL:https://bostonstrategies.com
X-WR-CALDESC:Events for Boston Strategies International
REFRESH-INTERVAL;VALUE=DURATION:PT1H
X-Robots-Tag:noindex
X-PUBLISHED-TTL:PT1H
BEGIN:VTIMEZONE
TZID:Atlantic/Bermuda
BEGIN:DAYLIGHT
TZOFFSETFROM:-0400
TZOFFSETTO:-0300
TZNAME:ADT
DTSTART:20210314T060000
END:DAYLIGHT
BEGIN:STANDARD
TZOFFSETFROM:-0300
TZOFFSETTO:-0400
TZNAME:AST
DTSTART:20211107T050000
END:STANDARD
BEGIN:DAYLIGHT
TZOFFSETFROM:-0400
TZOFFSETTO:-0300
TZNAME:ADT
DTSTART:20220313T060000
END:DAYLIGHT
BEGIN:STANDARD
TZOFFSETFROM:-0300
TZOFFSETTO:-0400
TZNAME:AST
DTSTART:20221106T050000
END:STANDARD
BEGIN:DAYLIGHT
TZOFFSETFROM:-0400
TZOFFSETTO:-0300
TZNAME:ADT
DTSTART:20230312T060000
END:DAYLIGHT
BEGIN:STANDARD
TZOFFSETFROM:-0300
TZOFFSETTO:-0400
TZNAME:AST
DTSTART:20231105T050000
END:STANDARD
BEGIN:DAYLIGHT
TZOFFSETFROM:-0400
TZOFFSETTO:-0300
TZNAME:ADT
DTSTART:20240310T060000
END:DAYLIGHT
BEGIN:STANDARD
TZOFFSETFROM:-0300
TZOFFSETTO:-0400
TZNAME:AST
DTSTART:20241103T050000
END:STANDARD
END:VTIMEZONE
BEGIN:VEVENT
DTSTART;TZID=Atlantic/Bermuda:20231221T080000
DTEND;TZID=Atlantic/Bermuda:20231221T170000
DTSTAMP:20260423T125916
CREATED:20231127T190356Z
LAST-MODIFIED:20240113T182339Z
UID:257837-1703145600-1703178000@bostonstrategies.com
SUMMARY:WQHS Radio Interview on Reinventing the Energy Value Chain
DESCRIPTION:Harsha Ravindran from the University of Pennsylvania’s WQHS Student Radio show Changing Reality interviews David Steven Jacoby on his book Reinventing the Energy Value Chain\, why the success of the energy transition depends on strategic supply chain management\, and where investors can earn the greatest return on capital employed. Dr. Waddah S. Ghanem Al Hashmi\, PhD\, Senior Director\, Emirates National Oil Company (ENOC) further defines the stakeholders of the energy transition: “Academics\, energy policy makers\, energy economists\, and investment advisors\, as well as the current and future executives of the energy industry could make good use of this book. I see it also as a sound reference for the energy researchers in universities as well as energy and sustainability research institutes [and] for those working in the supply and demand spaces and in every part of supply chain including producers\, suppliers and distributors of energy.” All of us are relying on bold and forward-thinking supply chain management to reach net zero emissions. Let’s get it right.
URL:https://bostonstrategies.com/event/wqhs-radio-interview-on-why-the-energy-transition-and-supply-chain-management-are-the-same-thing/
CATEGORIES:Climate Change,Energy Storage,Events,Green Hydrogen,Supply Chain
ATTACH;FMTTYPE=image/png:https://bostonstrategies.com/wp-content/uploads/2021/07/Reinventing-Energy-Industry-Value-Chain-Title.png
END:VEVENT
BEGIN:VEVENT
DTSTART;TZID=Atlantic/Bermuda:20220914T080000
DTEND;TZID=Atlantic/Bermuda:20220914T170000
DTSTAMP:20260423T125916
CREATED:20231016T040909Z
LAST-MODIFIED:20231016T041037Z
UID:257793-1663142400-1663174800@bostonstrategies.com
SUMMARY:Hydrogen In Commercial Transport & Logistics
DESCRIPTION:David Steven Jacoby\, Managing Director of Boston Strategies International\, and John A. Foote III\, Chief Technical Officer of Revchain LLC\, speak on the role that hydrogen will play in commercial transport & logistics in this webinar sponsored by Elsevier and Knovel.
URL:https://bostonstrategies.com/event/hydrogen-in-commercial-transport-logistics/
CATEGORIES:Events,Green Hydrogen,Supply Chain,Sustainability
ATTACH;FMTTYPE=image/jpeg:https://bostonstrategies.com/wp-content/uploads/2022/12/ENL-Blue-Gray-Green-Hydrogen-Production-BGGHP-3-1024x505-1.jpeg
END:VEVENT
BEGIN:VEVENT
DTSTART;TZID=Atlantic/Bermuda:20220303T080000
DTEND;TZID=Atlantic/Bermuda:20220303T170000
DTSTAMP:20260423T125916
CREATED:20220222T034853Z
LAST-MODIFIED:20240207T171341Z
UID:229846-1646294400-1646326800@bostonstrategies.com
SUMMARY:Economics of Green Hydrogen using Floating Wind: Projections Through 2035
DESCRIPTION:This session will evaluate the market potential for green hydrogen production using floating wind\, and offer projections through 2035. It should be useful to owners\, operators and investors considering funding concept or feasibility studies.
URL:https://bostonstrategies.com/event/economics-of-green-hydrogen-using-floating-wind-projections-through-2035/
LOCATION:MARRIOTT MARQUIS HOUSTON\, Houston\, United States
CATEGORIES:Events,Green Hydrogen,Supply Chain,Sustainability,Wind Energy
END:VEVENT
END:VCALENDAR