BEGIN:VCALENDAR
VERSION:2.0
PRODID:-//Boston Strategies International - ECPv6.15.20//NONSGML v1.0//EN
CALSCALE:GREGORIAN
METHOD:PUBLISH
X-WR-CALNAME:Boston Strategies International
X-ORIGINAL-URL:https://bostonstrategies.com
X-WR-CALDESC:Events for Boston Strategies International
REFRESH-INTERVAL;VALUE=DURATION:PT1H
X-Robots-Tag:noindex
X-PUBLISHED-TTL:PT1H
BEGIN:VTIMEZONE
TZID:Atlantic/Bermuda
BEGIN:DAYLIGHT
TZOFFSETFROM:-0400
TZOFFSETTO:-0300
TZNAME:ADT
DTSTART:20250309T060000
END:DAYLIGHT
BEGIN:STANDARD
TZOFFSETFROM:-0300
TZOFFSETTO:-0400
TZNAME:AST
DTSTART:20251102T050000
END:STANDARD
BEGIN:DAYLIGHT
TZOFFSETFROM:-0400
TZOFFSETTO:-0300
TZNAME:ADT
DTSTART:20260308T060000
END:DAYLIGHT
BEGIN:STANDARD
TZOFFSETFROM:-0300
TZOFFSETTO:-0400
TZNAME:AST
DTSTART:20261101T050000
END:STANDARD
BEGIN:DAYLIGHT
TZOFFSETFROM:-0400
TZOFFSETTO:-0300
TZNAME:ADT
DTSTART:20270314T060000
END:DAYLIGHT
BEGIN:STANDARD
TZOFFSETFROM:-0300
TZOFFSETTO:-0400
TZNAME:AST
DTSTART:20271107T050000
END:STANDARD
END:VTIMEZONE
BEGIN:VEVENT
DTSTART;TZID=Atlantic/Bermuda:20260422T080000
DTEND;TZID=Atlantic/Bermuda:20260423T180000
DTSTAMP:20260423T123538
CREATED:20260127T232037Z
LAST-MODIFIED:20260127T232037Z
UID:259072-1776844800-1776967200@bostonstrategies.com
SUMMARY:Boston Strategies at the Battery Show South 2026 in Charlotte\, NC. 
DESCRIPTION:Battery Show South 2026\, Charlotte\, NC.  \nThe President of Boston Strategies International\, David Steven Jacoby\, will be speaking at The Battery Show South 2026 in Charlotte\, North Carolina\, during a pivotal moment for the U.S. battery ecosystem—shaped by evolving industrial policy\, shifting market demand\, and accelerating regional investment across the Battery Belt. The event convenes engineers\, business leaders\, and innovators across the full advanced battery value chain\, with a strong focus on domestic supplier growth and commercialization readiness.  \nDavid’s session will address one of the most urgent strategic questions shaping the battery sector today:  \nTariffs and Battery Manufacturing Competitiveness: What will the state of tariff and global trade dynamics be in 2026–2028 — and how will this affect battery supply chains?  \nRecent major technological and commercial shockwaves have created a lot of noise about where to manufacture and where to source from. As the dust settles\, what assumptions should executives make regarding the direction and magnitude of tariffs\, international production costs\, and lifecycle costs in battery materials and components for the coming years? This session will be extremely useful for C-level executives who are:  \n\nConsidering site relocation or reshoring \nRealigning supply chains due to costs \nReviewing long-term business strategy \nInvolved in mergers\, acquisitions\, licensing\, or other transactions \n\nMore info: https://www.thebatteryshowsouth.com/    \nIf you would like to connect with David during The Battery Show South 2026\, Boston Strategies International welcomes conversations with manufacturers\, suppliers\, developers\, and investors shaping the future of batteries and electrification. 
URL:https://bostonstrategies.com/event/boston-strategies-at-the-battery-show-south-2026-in-charlotte-nc/
CATEGORIES:Batteries,Events,Supply Chain
ATTACH;FMTTYPE=image/png:https://bostonstrategies.com/wp-content/uploads/2026/01/Screenshot-2026-01-27-182009.png
END:VEVENT
BEGIN:VEVENT
DTSTART;TZID=Atlantic/Bermuda:20260423T080000
DTEND;TZID=Atlantic/Bermuda:20260424T180000
DTSTAMP:20260423T123539
CREATED:20260127T232508Z
LAST-MODIFIED:20260127T232508Z
UID:259075-1776931200-1777053600@bostonstrategies.com
SUMMARY:David Jacoby Speaking at Critical Minerals North America Conference & Exhibition 2026\, New York City
DESCRIPTION:Boston Strategies International is pleased to announce that David Jacoby will be speaking at the Critical Minerals North America Conference & Exhibition 2026\, taking place in New York City.  \nCritical Minerals North America is America’s longest running international critical minerals\, commodities\, investment\, new energy & technologies show\, bringing together the entire mineral resources value chain to New York City.  \nDavid Jacoby’s Session Topic:  \nHow to Develop All-American Critical Minerals Value Chains Before It’s Too Late — With a Special Focus on Rare Earths and Battery Materials  \n🔎 Key highlights:   \nEfforts are underway to develop all-American supply chains for minerals such as rare earths\, lithium\, graphite\, cobalt\, magnesium\, and of course nickel\, copper and other more common metals. From an investment point of view\, the story is one of investment and return. But from a supply chain point of view\, the whole value chain from mine to end-product is in play – extraction\, pre-processing\, processing\, refining\, assembly\, manufacturing\, distribution\, and recycling.   \nUsing rare earths as an example\, my talk will address how the US can economically localize its production to eliminate dependence on trading partners like China.  \n✅Which extraction technologies are efficient at different scales  \n✅How far away multiple processing stages can be located without destroying margin   \n✅Whether refining can be environmentally safe and socially sustainable  \n✅What configuration of distribution centers maximizes market reach at economic cost  \n✅How to organize for recycling even before it’s required by law  \nMore info: https://www.criticalmineralsnorthamerica.com/   \nIf you are attending Critical Minerals North America 2026 in New York City and would like to connect with David during the event\, feel free to reach out anytime. 
URL:https://bostonstrategies.com/event/david-jacoby-speaking-at-critical-minerals-north-america-conference-exhibition-2026-new-york-city/
CATEGORIES:Energy Storage,Events,Net Zero,Supply Chain,Sustainability
ATTACH;FMTTYPE=image/png:https://bostonstrategies.com/wp-content/uploads/2026/01/Screenshot-2026-01-27-182437.png
END:VEVENT
END:VCALENDAR