BEGIN:VCALENDAR
VERSION:2.0
PRODID:-//Boston Strategies International - ECPv6.15.20//NONSGML v1.0//EN
CALSCALE:GREGORIAN
METHOD:PUBLISH
X-WR-CALNAME:Boston Strategies International
X-ORIGINAL-URL:https://bostonstrategies.com
X-WR-CALDESC:Events for Boston Strategies International
REFRESH-INTERVAL;VALUE=DURATION:PT1H
X-Robots-Tag:noindex
X-PUBLISHED-TTL:PT1H
BEGIN:VTIMEZONE
TZID:Atlantic/Bermuda
BEGIN:DAYLIGHT
TZOFFSETFROM:-0400
TZOFFSETTO:-0300
TZNAME:ADT
DTSTART:20250309T060000
END:DAYLIGHT
BEGIN:STANDARD
TZOFFSETFROM:-0300
TZOFFSETTO:-0400
TZNAME:AST
DTSTART:20251102T050000
END:STANDARD
BEGIN:DAYLIGHT
TZOFFSETFROM:-0400
TZOFFSETTO:-0300
TZNAME:ADT
DTSTART:20260308T060000
END:DAYLIGHT
BEGIN:STANDARD
TZOFFSETFROM:-0300
TZOFFSETTO:-0400
TZNAME:AST
DTSTART:20261101T050000
END:STANDARD
BEGIN:DAYLIGHT
TZOFFSETFROM:-0400
TZOFFSETTO:-0300
TZNAME:ADT
DTSTART:20270314T060000
END:DAYLIGHT
BEGIN:STANDARD
TZOFFSETFROM:-0300
TZOFFSETTO:-0400
TZNAME:AST
DTSTART:20271107T050000
END:STANDARD
END:VTIMEZONE
BEGIN:VEVENT
DTSTART;TZID=Atlantic/Bermuda:20260421T080000
DTEND;TZID=Atlantic/Bermuda:20260421T180000
DTSTAMP:20260421T024754
CREATED:20260127T231524Z
LAST-MODIFIED:20260127T231524Z
UID:259069-1776758400-1776794400@bostonstrategies.com
SUMMARY:Boston Strategies International at the Columbia Global Energy Summit (Columbia University SIPA | New York City 
DESCRIPTION:🌍⚡ Boston Strategies International looks forward to attending the Columbia Global Energy Summit (Columbia University SIPA | Center on Global Energy Policy) in New York City.  \nThis year’s theme — Energy Security and the Transition amid Geopolitical Turbulence — could not be more timely. Energy is no longer “just” a market issue. It has become a security issue\, an industrial policy issue\, and a supply chain issue — all at the same time. It is rapidly becoming a core pillar of:  \n🔹 National security\n 🔹 Industrial competitiveness\n 🔹 Infrastructure resilience\n 🔹 Supply chain independence\n 🔹 Capital allocation decisions  \n➡️ The “new world order” isn’t only about diplomacy — it’s increasingly about who controls upstream resources\, who can build infrastructure fastest\, and who can execute resilient supply chains under uncertainty.  \nAt Boston Strategies International\, this is exactly the space we work in — where energy security\, geopolitics\, project finance\, and execution reality meet.  \nBoston Strategies International helps clients:\n 🔹 secure critical materials\, equipment\, and services early\n 🔹 quantify cost escalation + schedule risk before it becomes value destruction\n 🔹 strengthen bankability by proving supply availability and delivery confidence\n 🔹 build resilient sourcing strategies that withstand geopolitical shocks\n 🔹 implement end-to-end supply chain de-risking at the bill-of-materials level  \nBecause in today’s environment\, energy transition success doesn’t come down to ambition alone — it comes down to reliable delivery.  \nFor organizations attending the Summit and interested in discussing more about Energy Security or transition strategies\, reach out to Boston Strategies International to connect.  \nMore info: https://www.energypolicy.columbia.edu/events/2026-columbia-global-energy-summit/ 
URL:https://bostonstrategies.com/event/boston-strategies-international-at-the-columbia-global-energy-summit-columbia-university-sipa-new-york-city/
CATEGORIES:Events,Net Zero,Supply Chain,Sustainability
ATTACH;FMTTYPE=image/png:https://bostonstrategies.com/wp-content/uploads/2026/01/Screenshot-2026-01-27-181221.png
END:VEVENT
END:VCALENDAR